BEGIN:VCALENDAR
VERSION:2.0
PRODID:-//Badhub//Badminton Spielplan//DE
CALSCALE:GREGORIAN
METHOD:PUBLISH
X-WR-CALNAME:Badminton-Verband Berlin-Brandenburg Spielplan 25/26
X-WR-TIMEZONE:Europe/Berlin
BEGIN:VEVENT
UID:badhub-956@badhub.de
DTSTART:20251004T133000Z
DTEND:20251004T163000Z
SUMMARY:SV Berliner Brauereien II vs VfB Hermsdorf
DESCRIPTION:Jugend · Vorrunde Staffel B
LOCATION:HE
END:VEVENT
BEGIN:VEVENT
UID:badhub-940@badhub.de
DTSTART:20260214T150000Z
DTEND:20260214T180000Z
SUMMARY:SV Berliner Brauereien II vs BG Grünau
DESCRIPTION:Jugend · Platzierung 7-9
LOCATION:SD
END:VEVENT
BEGIN:VEVENT
UID:badhub-941@badhub.de
DTSTART:20260214T161500Z
DTEND:20260214T191500Z
SUMMARY:Berliner Sport-Club vs SV Berliner Brauereien II
DESCRIPTION:Jugend · Platzierung 7-9
LOCATION:SD
END:VEVENT
BEGIN:VEVENT
UID:badhub-108100@badhub.de
DTSTART:20260419T160000Z
DTEND:20260419T190000Z
SUMMARY:VfB Hermsdorf vs SG EBT III
DESCRIPTION:Berlin-Brandenburg-Liga · BBL-Relegation
LOCATION:HE
END:VEVENT
END:VCALENDAR
